BEGIN:VCALENDAR
VERSION:2.0
PRODID:-//International Exit Planning Association - ECPv6.15.11//NONSGML v1.0//EN
CALSCALE:GREGORIAN
METHOD:PUBLISH
X-ORIGINAL-URL:https://theiepa.com
X-WR-CALDESC:Events for International Exit Planning Association
REFRESH-INTERVAL;VALUE=DURATION:PT1H
X-Robots-Tag:noindex
X-PUBLISHED-TTL:PT1H
BEGIN:VTIMEZONE
TZID:America/New_York
BEGIN:DAYLIGHT
TZOFFSETFROM:-0500
TZOFFSETTO:-0400
TZNAME:EDT
DTSTART:20240310T070000
END:DAYLIGHT
BEGIN:STANDARD
TZOFFSETFROM:-0400
TZOFFSETTO:-0500
TZNAME:EST
DTSTART:20241103T060000
END:STANDARD
BEGIN:DAYLIGHT
TZOFFSETFROM:-0500
TZOFFSETTO:-0400
TZNAME:EDT
DTSTART:20250309T070000
END:DAYLIGHT
BEGIN:STANDARD
TZOFFSETFROM:-0400
TZOFFSETTO:-0500
TZNAME:EST
DTSTART:20251102T060000
END:STANDARD
BEGIN:DAYLIGHT
TZOFFSETFROM:-0500
TZOFFSETTO:-0400
TZNAME:EDT
DTSTART:20260308T070000
END:DAYLIGHT
BEGIN:STANDARD
TZOFFSETFROM:-0400
TZOFFSETTO:-0500
TZNAME:EST
DTSTART:20261101T060000
END:STANDARD
END:VTIMEZONE
BEGIN:VEVENT
DTSTART;TZID=America/New_York:20251001T150000
DTEND;TZID=America/New_York:20251205T170000
DTSTAMP:20260423T161353
CREATED:20241113T031827Z
LAST-MODIFIED:20250827T071438Z
UID:1021-1759330800-1764954000@theiepa.com
SUMMARY:Certified Business Exit Consultant® (CBEC®) Certification Program: Fall 2025
DESCRIPTION:The Certified Business Exit Consultant® (CBEC®) Designation course and exam is offered 4 times a year. CBEC® is not recommended for beginners. Professionals who achieve CBEC® are experienced business advisors who learn the body of knowledge (available immediately once registered)\, pass the proctored exam\, and submit a written exit plan that meets the IEPA quality assurance standard (within 12 months of the exam). \n\n         Register Now\n         Presenter:  IEPA Faculty\n        Contact:\n								Tommy Delello\, CBEC Program Administrator \n\n								tommy@theIEPA.com \n								(781)821-2608 \n							 \n		There will be a total of 9 virtual sessions.  The last session will be the proctored live exam.\n		 \n        The dates of the sessions will be:\n                            October 20251\n                            \n								CBEC® Orientation WebinarIntroduction to the CBEC® Course\n							     3:00 PM to 4:00 PM\n							\n                        Week 1\n				\n				\n                            October 202515\n                            \n								CBEC® Virtual Executive Study GroupDeveloping a Capital Markets Perspective\n							     3:30 PM to5:00 PM\n							\n                        Week 2\n				\n				\n                            \n                            \n								CBEC® Virtual Executive Study GroupDevelop an Exit Planning Perspective\n							    \n							\n                        \n                            October 202522\n                            \n								When Engaging a Business Owner\n							     3:30 PM to 5:00 PM\n							\n                        Week 3 \n				\n				\n                            October 202529\n                            \n								CBEC® Virtual Executive Study GroupDevelop a Perspective on Valuation and Value Growth\n							     3:30 PM to 5:00 PM (Monday)\n							\n                        Week 4 \n				\n				\n                            November 20255\n                            \n								CBEC® Virtual Executive Study GroupDevelop a Perspective on External Transfers\n							     3:30 PM to 5:00 PM\n							\n                        Week 5\n				\n				\n                            November 202512\n                            \n								CBEC® Virtual Executive Study GroupDevelop a Perspective on Internal Transfers\n							      3:30 PM to 5:00 PM\n							\n                        Week 6\n				\n				\n                            \n                            \n								CBEC® Virtual Executive Study GroupGoing to Market\, Building Your Advisory\n							    \n							\n                        \n                            November 202519\n                            \n								Practice\n							     3:30 PM to 5:00 PM (MONDAY)\n							\n                        \n                            December 20254\n                            \n								Exam Review – CBEC® Certification\n							     10:00 AM to 4:00 PM\n							\n                        \n                            December 20255\n                            \n								Proctored Exam Testing Window – CBEC® Certification\n							     10:00 AM. to 2:00 PM
URL:https://theiepa.com/education/certified-business-exit-consultant-cbec-certification-program-fall-2025/
LOCATION:Zoom
CATEGORIES:Training
ORGANIZER;CN="Tommy Delello":MAILTO:tommy@theiepa.com
END:VEVENT
BEGIN:VEVENT
DTSTART;TZID=America/New_York:20250716T150000
DTEND;TZID=America/New_York:20250919T170000
DTSTAMP:20260423T161353
CREATED:20241113T031209Z
LAST-MODIFIED:20250827T071512Z
UID:1012-1752678000-1758301200@theiepa.com
SUMMARY:Certified Business Exit Consultant® (CBEC®) Certification Program: Summer 2025
DESCRIPTION:The Certified Business Exit Consultant® (CBEC®) Designation course and exam is offered 4 times a year. CBEC® is not recommended for beginners. Professionals who achieve CBEC® are experienced business advisors who learn the body of knowledge (available immediately once registered)\, pass the proctored exam\, and submit a written exit plan that meets the IEPA quality assurance standard (within 12 months of the exam). \n\n         Register Now\n         Presenter:  IEPA Faculty\n        Contact:\n								Tommy Delello\, CBEC Program Administrator \n\n								tommy@theIEPA.com \n								(781)821-2608 \n							 \n		There will be a total of 9 virtual sessions.  The last session will be the proctored live exam.\n		 \n        The dates of the sessions will be:\n                            October 20251\n                            \n								CBEC® Orientation WebinarIntroduction to the CBEC® Course\n							     3:00 PM to 4:00 PM\n							\n                        Week 1\n				\n				\n                            October 202515\n                            \n								CBEC® Virtual Executive Study GroupDeveloping a Capital Markets Perspective\n							     3:30 PM to5:00 PM\n							\n                        Week 2\n				\n				\n                            \n                            \n								CBEC® Virtual Executive Study GroupDevelop an Exit Planning Perspective\n							    \n							\n                        \n                            October 202522\n                            \n								When Engaging a Business Owner\n							     3:30 PM to 5:00 PM\n							\n                        Week 3 \n				\n				\n                            October 202529\n                            \n								CBEC® Virtual Executive Study GroupDevelop a Perspective on Valuation and Value Growth\n							     3:30 PM to 5:00 PM (Monday)\n							\n                        Week 4 \n				\n				\n                            November 20255\n                            \n								CBEC® Virtual Executive Study GroupDevelop a Perspective on External Transfers\n							     3:30 PM to 5:00 PM\n							\n                        Week 5\n				\n				\n                            November 202512\n                            \n								CBEC® Virtual Executive Study GroupDevelop a Perspective on Internal Transfers\n							      3:30 PM to 5:00 PM\n							\n                        Week 6\n				\n				\n                            \n                            \n								CBEC® Virtual Executive Study GroupGoing to Market\, Building Your Advisory\n							    \n							\n                        \n                            November 202519\n                            \n								Practice\n							     3:30 PM to 5:00 PM (MONDAY)\n							\n                        \n                            December 20254\n                            \n								Exam Review – CBEC® Certification\n							     10:00 AM to 4:00 PM\n							\n                        \n                            December 20255\n                            \n								Proctored Exam Testing Window – CBEC® Certification\n							     10:00 AM. to 2:00 PM
URL:https://theiepa.com/education/certified-business-exit-consultant-cbec-certification-program-summer-2025/
LOCATION:Zoom
CATEGORIES:Training
ORGANIZER;CN="Tommy Delello":MAILTO:tommy@theiepa.com
END:VEVENT
BEGIN:VEVENT
DTSTART;TZID=America/New_York:20250430T150000
DTEND;TZID=America/New_York:20250627T160000
DTSTAMP:20260423T161353
CREATED:20241112T100036Z
LAST-MODIFIED:20250827T071626Z
UID:997-1746025200-1751040000@theiepa.com
SUMMARY:Certified Business Exit Consultant® (CBEC®) Certification Program: Spring 2025
DESCRIPTION:The Certified Business Exit Consultant® (CBEC®) Designation course and exam is offered 4 times a year. CBEC® is not recommended for beginners. Professionals who achieve CBEC® are experienced business advisors who learn the body of knowledge (available immediately once registered)\, pass the proctored exam\, and submit a written exit plan that meets the IEPA quality assurance standard (within 12 months of the exam). \n\n         Register Now\n         Presenter:  IEPA Faculty\n        Contact:\n								Tommy Delello\, CBEC Program Administrator \n\n								tommy@theIEPA.com \n								(781)821-2608 \n							 \n		There will be a total of 9 virtual sessions.  The last session will be the proctored live exam.\n		 \n        The dates of the sessions will be:\n                            October 20251\n                            \n								CBEC® Orientation WebinarIntroduction to the CBEC® Course\n							     3:00 PM to 4:00 PM\n							\n                        Week 1\n				\n				\n                            October 202515\n                            \n								CBEC® Virtual Executive Study GroupDeveloping a Capital Markets Perspective\n							     3:30 PM to5:00 PM\n							\n                        Week 2\n				\n				\n                            \n                            \n								CBEC® Virtual Executive Study GroupDevelop an Exit Planning Perspective\n							    \n							\n                        \n                            October 202522\n                            \n								When Engaging a Business Owner\n							     3:30 PM to 5:00 PM\n							\n                        Week 3 \n				\n				\n                            October 202529\n                            \n								CBEC® Virtual Executive Study GroupDevelop a Perspective on Valuation and Value Growth\n							     3:30 PM to 5:00 PM (Monday)\n							\n                        Week 4 \n				\n				\n                            November 20255\n                            \n								CBEC® Virtual Executive Study GroupDevelop a Perspective on External Transfers\n							     3:30 PM to 5:00 PM\n							\n                        Week 5\n				\n				\n                            November 202512\n                            \n								CBEC® Virtual Executive Study GroupDevelop a Perspective on Internal Transfers\n							      3:30 PM to 5:00 PM\n							\n                        Week 6\n				\n				\n                            \n                            \n								CBEC® Virtual Executive Study GroupGoing to Market\, Building Your Advisory\n							    \n							\n                        \n                            November 202519\n                            \n								Practice\n							     3:30 PM to 5:00 PM (MONDAY)\n							\n                        \n                            December 20254\n                            \n								Exam Review – CBEC® Certification\n							     10:00 AM to 4:00 PM\n							\n                        \n                            December 20255\n                            \n								Proctored Exam Testing Window – CBEC® Certification\n							     10:00 AM. to 2:00 PM
URL:https://theiepa.com/education/certified-business-exit-consultant-cbec-certification-program-spring-2025/
LOCATION:Zoom
CATEGORIES:Training
END:VEVENT
END:VCALENDAR